BEGIN:VCALENDAR
VERSION:2.0
PRODID:-//Barton Turf Adventure Centre - ECPv5.3.1.1//NONSGML v1.0//EN
CALSCALE:GREGORIAN
METHOD:PUBLISH
X-WR-CALNAME:Barton Turf Adventure Centre
X-ORIGINAL-URL:https://www.btac-services.co.uk
X-WR-CALDESC:Events for Barton Turf Adventure Centre
BEGIN:VTIMEZONE
TZID:Europe/London
BEGIN:DAYLIGHT
TZOFFSETFROM:+0000
TZOFFSETTO:+0100
TZNAME:BST
DTSTART:20190331T010000
END:DAYLIGHT
BEGIN:STANDARD
TZOFFSETFROM:+0100
TZOFFSETTO:+0000
TZNAME:GMT
DTSTART:20191027T010000
END:STANDARD
END:VTIMEZONE
BEGIN:VEVENT
DTSTART;TZID=Europe/London:20190512T103000
DTEND;TZID=Europe/London:20190512T160000
DTSTAMP:20260423T152926
CREATED:20190214T153536Z
LAST-MODIFIED:20190214T153536Z
UID:720-1557657000-1557676800@www.btac-services.co.uk
SUMMARY:Go Wild at Barton Turf
DESCRIPTION:
URL:https://www.btac-services.co.uk/event/go-wild-at-barton-turf/
LOCATION:Barton Turf Adventure Centre\, Staithe Road\, Barton Turf\, NORWICH\, NR12 8AZ\, United Kingdom
END:VEVENT
BEGIN:VEVENT
DTSTART;TZID=Europe/London:20190524T080000
DTEND;TZID=Europe/London:20190527T170000
DTSTAMP:20260423T152926
CREATED:20190214T154025Z
LAST-MODIFIED:20190214T154025Z
UID:725-1558684800-1558976400@www.btac-services.co.uk
SUMMARY:Private booking
DESCRIPTION:
URL:https://www.btac-services.co.uk/event/private-booking-7/
LOCATION:Barton Turf Adventure Centre\, Staithe Road\, Barton Turf\, NORWICH\, NR12 8AZ\, United Kingdom
CATEGORIES:Private session
END:VEVENT
BEGIN:VEVENT
DTSTART;TZID=Europe/London:20190529T093000
DTEND;TZID=Europe/London:20190531T173000
DTSTAMP:20260423T152926
CREATED:20190214T154450Z
LAST-MODIFIED:20190214T154741Z
UID:727-1559122200-1559323800@www.btac-services.co.uk
SUMMARY:RYA Youth Stage 4 - Improved sailing (double handed etc)
DESCRIPTION:Cost includes the Wednesday “revision day”
URL:https://www.btac-services.co.uk/event/rya-youth-stage-4/
LOCATION:Barton Turf Adventure Centre\, Staithe Road\, Barton Turf\, NORWICH\, NR12 8AZ\, United Kingdom
CATEGORIES:Sailing course
ORGANIZER;CN="Barton%20Turf%20Adventure%20Centre":MAILTO:bookings@btac-services.co.uk
END:VEVENT
END:VCALENDAR