BEGIN:VCALENDAR
VERSION:2.0
PRODID:-//Barton Turf Adventure Centre - ECPv5.3.1.1//NONSGML v1.0//EN
CALSCALE:GREGORIAN
METHOD:PUBLISH
X-WR-CALNAME:Barton Turf Adventure Centre
X-ORIGINAL-URL:https://www.btac-services.co.uk
X-WR-CALDESC:Events for Barton Turf Adventure Centre
BEGIN:VTIMEZONE
TZID:Europe/London
BEGIN:DAYLIGHT
TZOFFSETFROM:+0000
TZOFFSETTO:+0100
TZNAME:BST
DTSTART:20190331T010000
END:DAYLIGHT
BEGIN:STANDARD
TZOFFSETFROM:+0100
TZOFFSETTO:+0000
TZNAME:GMT
DTSTART:20191027T010000
END:STANDARD
END:VTIMEZONE
BEGIN:VEVENT
DTSTART;TZID=Europe/London:20190827T093000
DTEND;TZID=Europe/London:20190828T170000
DTSTAMP:20260423T093529
CREATED:20190808T163913Z
LAST-MODIFIED:20190808T163913Z
UID:801-1566898200-1567011600@www.btac-services.co.uk
SUMMARY:RYA Start Sailing (Youth Stage 1 only)
DESCRIPTION:
URL:https://www.btac-services.co.uk/event/rya-start-sailing-youth-stage-1-only/
LOCATION:NORWICH
END:VEVENT
BEGIN:VEVENT
DTSTART;TZID=Europe/London:20190829T093000
DTEND;TZID=Europe/London:20190831T170000
DTSTAMP:20260423T093529
CREATED:20190808T164101Z
LAST-MODIFIED:20190808T164101Z
UID:803-1567071000-1567270800@www.btac-services.co.uk
SUMMARY:RYA Improved Sailing (Youth Stage 4)
DESCRIPTION:
URL:https://www.btac-services.co.uk/event/rya-improved-sailing-youth-stage-4/
LOCATION:Barton Turf Adventure Centre\, Staithe Road\, Barton Turf\, NORWICH\, NR12 8AZ\, United Kingdom
ORGANIZER;CN="Barton%20Turf%20Adventure%20Centre":MAILTO:bookings@btac-services.co.uk
END:VEVENT
BEGIN:VEVENT
DTSTART;VALUE=DATE:20190830
DTEND;VALUE=DATE:20190902
DTSTAMP:20260423T093529
CREATED:20190808T164205Z
LAST-MODIFIED:20190808T164205Z
UID:805-1567123200-1567382399@www.btac-services.co.uk
SUMMARY:Private Booking (HSSCA)
DESCRIPTION:
URL:https://www.btac-services.co.uk/event/private-booking-hssca/
LOCATION:Barton Turf Adventure Centre\, Staithe Road\, Barton Turf\, NORWICH\, NR12 8AZ\, United Kingdom
END:VEVENT
BEGIN:VEVENT
DTSTART;VALUE=DATE:20190906
DTEND;VALUE=DATE:20190909
DTSTAMP:20260423T093529
CREATED:20190808T164241Z
LAST-MODIFIED:20190808T164514Z
UID:807-1567728000-1567987199@www.btac-services.co.uk
SUMMARY:Private Booking
DESCRIPTION:
URL:https://www.btac-services.co.uk/event/private-booking-8/
LOCATION:NORWICH
END:VEVENT
BEGIN:VEVENT
DTSTART;VALUE=DATE:20190913
DTEND;VALUE=DATE:20190916
DTSTAMP:20260423T093529
CREATED:20190808T164618Z
LAST-MODIFIED:20190808T164618Z
UID:809-1568332800-1568591999@www.btac-services.co.uk
SUMMARY:Private Booking
DESCRIPTION:
URL:https://www.btac-services.co.uk/event/private-booking-9/
LOCATION:NORWICH
END:VEVENT
END:VCALENDAR