BEGIN:VCALENDAR
VERSION:2.0
PRODID:-//Barton Turf Adventure Centre - ECPv5.3.1.1//NONSGML v1.0//EN
CALSCALE:GREGORIAN
METHOD:PUBLISH
X-WR-CALNAME:Barton Turf Adventure Centre
X-ORIGINAL-URL:https://www.btac-services.co.uk
X-WR-CALDESC:Events for Barton Turf Adventure Centre
BEGIN:VTIMEZONE
TZID:Europe/London
BEGIN:DAYLIGHT
TZOFFSETFROM:+0000
TZOFFSETTO:+0100
TZNAME:BST
DTSTART:20200329T010000
END:DAYLIGHT
BEGIN:STANDARD
TZOFFSETFROM:+0100
TZOFFSETTO:+0000
TZNAME:GMT
DTSTART:20201025T010000
END:STANDARD
END:VTIMEZONE
BEGIN:VEVENT
DTSTART;TZID=Europe/London:20200406T093000
DTEND;TZID=Europe/London:20200407T173000
DTSTAMP:20260420T161450
CREATED:20191009T115638Z
LAST-MODIFIED:20200323T104727Z
UID:841-1586165400-1586280600@www.btac-services.co.uk
SUMMARY:CANCELLED H1 Under 16's sailing course
DESCRIPTION:Those who have already booked will be offered a place on the next course to run – provisionally scheduled for the last week of May (what was half-term) \n2-day course – RYA Stage 1  (spaces available) \nPractical and classroom based teaching\, 1:6 ratio instructor to students\, student log book included \n(See https://www.btac-services.co.uk/rya-syllabus/ for more details) \nplease inquire if you would like stage 2 or stage 3 instead
URL:https://www.btac-services.co.uk/event/h1-under-16s-sailing-course-2/
LOCATION:Barton Turf Adventure Centre\, Staithe Road\, Barton Turf\, NORWICH\, NR12 8AZ\, United Kingdom
CATEGORIES:Sailing course
ORGANIZER;CN="Barton%20Turf%20Adventure%20Centre":MAILTO:bookings@btac-services.co.uk
END:VEVENT
BEGIN:VEVENT
DTSTART;TZID=Europe/London:20200410T080000
DTEND;TZID=Europe/London:20200413T170000
DTSTAMP:20260420T161450
CREATED:20191203T150336Z
LAST-MODIFIED:20200323T112110Z
UID:891-1586505600-1586797200@www.btac-services.co.uk
SUMMARY:CANCELLED (OCA)
DESCRIPTION:OCA members only. Book via OCA Organiser (NB 2020 booking form needed)
URL:https://www.btac-services.co.uk/event/private-booking-17/
LOCATION:Barton Turf Adventure Centre\, Staithe Road\, Barton Turf\, NORWICH\, NR12 8AZ\, United Kingdom
CATEGORIES:Private session
END:VEVENT
BEGIN:VEVENT
DTSTART;TZID=Europe/London:20200416T093000
DTEND;TZID=Europe/London:20200417T173000
DTSTAMP:20260420T161450
CREATED:20191009T115638Z
LAST-MODIFIED:20200323T104829Z
UID:843-1587029400-1587144600@www.btac-services.co.uk
SUMMARY:CANCELLED H2 under 16's sailing course
DESCRIPTION:Those who have already booked will be offered a place on the next course to run – provisionally scheduled for the last week of May (what was half-term) \n2-day course – either Stage 1 or Stage 2\n(See https://www.btac-services.co.uk/rya-syllabus/ for more details) \nPractical and classroom based teaching\, 1:6 ratio instructor to students\, student log book included
URL:https://www.btac-services.co.uk/event/h2-under-16s-sailing-course-2/
LOCATION:Barton Turf Adventure Centre\, Staithe Road\, Barton Turf\, NORWICH\, NR12 8AZ\, United Kingdom
CATEGORIES:Sailing course
ORGANIZER;CN="Barton%20Turf%20Adventure%20Centre":MAILTO:bookings@btac-services.co.uk
END:VEVENT
BEGIN:VEVENT
DTSTART;TZID=Europe/London:20200418T093000
DTEND;TZID=Europe/London:20200419T163000
DTSTAMP:20260420T161450
CREATED:20191009T115638Z
LAST-MODIFIED:20200505T154042Z
UID:844-1587202200-1587313800@www.btac-services.co.uk
SUMMARY:CANCELLED - A1 adult sailing course
DESCRIPTION:We are accepting no more bookings for this course. We will be in contact with those who have booked to decide what to do about their booking.\n \nBeginners RYA level 1 two day sailing course (spaces available)\nIntroducing you to sailing with all you need to know to get afloat and sail in light wind under supervision.\nPractical and classroom based teaching\, 1:6 ratio instructor to students\, student log book included
URL:https://www.btac-services.co.uk/event/a1-adult-sailing-course-2/
LOCATION:Barton Turf Adventure Centre\, Staithe Road\, Barton Turf\, NORWICH\, NR12 8AZ\, United Kingdom
CATEGORIES:Sailing course
ORGANIZER;CN="Barton%20Turf%20Adventure%20Centre":MAILTO:bookings@btac-services.co.uk
END:VEVENT
END:VCALENDAR