BEGIN:VCALENDAR
VERSION:2.0
PRODID:-//Barton Turf Adventure Centre - ECPv5.3.1.1//NONSGML v1.0//EN
CALSCALE:GREGORIAN
METHOD:PUBLISH
X-WR-CALNAME:Barton Turf Adventure Centre
X-ORIGINAL-URL:https://www.btac-services.co.uk
X-WR-CALDESC:Events for Barton Turf Adventure Centre
BEGIN:VTIMEZONE
TZID:Europe/London
BEGIN:DAYLIGHT
TZOFFSETFROM:+0000
TZOFFSETTO:+0100
TZNAME:BST
DTSTART:20200329T010000
END:DAYLIGHT
BEGIN:STANDARD
TZOFFSETFROM:+0100
TZOFFSETTO:+0000
TZNAME:GMT
DTSTART:20201025T010000
END:STANDARD
END:VTIMEZONE
BEGIN:VEVENT
DTSTART;TZID=Europe/London:20200727T093000
DTEND;TZID=Europe/London:20200731T093000
DTSTAMP:20260422T221228
CREATED:20191009T115638Z
LAST-MODIFIED:20200607T110544Z
UID:845-1595842200-1596187800@www.btac-services.co.uk
SUMMARY:CANCELLED H4 Under 16's sailing course
DESCRIPTION:Either a 5-day course or two 2-day courses – either Stage 1 + Stage 2 or Stage 3 + Stage 4\n(See https://www.btac-services.co.uk/rya-syllabus/ for more details)\nPractical and classroom based teaching\, 1:6 ratio instructor to students\, student log book included
URL:https://www.btac-services.co.uk/event/h4-under-16s-sailing-course-2/
LOCATION:Barton Turf Adventure Centre\, Staithe Road\, Barton Turf\, NORWICH\, NR12 8AZ\, United Kingdom
CATEGORIES:Sailing course
ORGANIZER;CN="Barton%20Turf%20Adventure%20Centre":MAILTO:bookings@btac-services.co.uk
END:VEVENT
BEGIN:VEVENT
DTSTART;TZID=Europe/London:20200801T090000
DTEND;TZID=Europe/London:20200802T170000
DTSTAMP:20260422T221228
CREATED:20200607T110154Z
LAST-MODIFIED:20200607T110154Z
UID:982-1596272400-1596387600@www.btac-services.co.uk
SUMMARY:New Date A3 Adult Sailing Course
DESCRIPTION:2 day sailing course level 1 or 2\nSetting out the foundations of sailing for you – rigging\, launching\, sailing in all directions\, capsize recovery and essential safety knowledge – so you are able to sail and make decisions in good conditions \nPractical and classroom based teaching\, 1:6 ratio instructor to students\, student log book included
URL:https://www.btac-services.co.uk/event/a3-adult-sailing-course-new-date/
LOCATION:Barton Turf Adventure Centre\, Staithe Road\, Barton Turf\, NORWICH\, NR12 8AZ\, United Kingdom
ORGANIZER;CN="Barton%20Turf%20Adventure%20Centre":MAILTO:bookings@btac-services.co.uk
END:VEVENT
BEGIN:VEVENT
DTSTART;TZID=Europe/London:20200801T140000
DTEND;TZID=Europe/London:20200808T120000
DTSTAMP:20260422T221228
CREATED:20200113T135628Z
LAST-MODIFIED:20200607T110442Z
UID:925-1596290400-1596888000@www.btac-services.co.uk
SUMMARY:Private Booking (CCCGB Boating Group) (updated)
DESCRIPTION:(CCCGB members only – book via Boating Group Steward)
URL:https://www.btac-services.co.uk/event/private-booking-cccgb-boating-group/
LOCATION:Barton Turf Adventure Centre\, Staithe Road\, Barton Turf\, NORWICH\, NR12 8AZ\, United Kingdom
END:VEVENT
BEGIN:VEVENT
DTSTART;TZID=Europe/London:20200803T093000
DTEND;TZID=Europe/London:20200807T173000
DTSTAMP:20260422T221228
CREATED:20191009T115641Z
LAST-MODIFIED:20191203T135921Z
UID:846-1596447000-1596821400@www.btac-services.co.uk
SUMMARY:H5 Under 16's sailing course
DESCRIPTION:Either a 5-day course or two 2-day courses – either Stage 1 + Stage 2 or Stage 3 + Stage 4 (See https://www.btac-services.co.uk/rya-syllabus/ for more details)
URL:https://www.btac-services.co.uk/event/h5-under-16s-sailing-course-2/
LOCATION:Barton Turf Adventure Centre\, Staithe Road\, Barton Turf\, NORWICH\, NR12 8AZ\, United Kingdom
CATEGORIES:Sailing course
ORGANIZER;CN="Barton%20Turf%20Adventure%20Centre":MAILTO:bookings@btac-services.co.uk
END:VEVENT
BEGIN:VEVENT
DTSTART;TZID=Europe/London:20200809T080000
DTEND;TZID=Europe/London:20200816T170000
DTSTAMP:20260422T221228
CREATED:20191203T145331Z
LAST-MODIFIED:20191203T152125Z
UID:881-1596960000-1597597200@www.btac-services.co.uk
SUMMARY:Private booking
DESCRIPTION:
URL:https://www.btac-services.co.uk/event/private-booking-15/
LOCATION:Barton Turf Adventure Centre\, Staithe Road\, Barton Turf\, NORWICH\, NR12 8AZ\, United Kingdom
CATEGORIES:Private session
END:VEVENT
BEGIN:VEVENT
DTSTART;TZID=Europe/London:20200817T093000
DTEND;TZID=Europe/London:20200821T093000
DTSTAMP:20260422T221228
CREATED:20191009T115641Z
LAST-MODIFIED:20191203T140013Z
UID:847-1597656600-1598002200@www.btac-services.co.uk
SUMMARY:H6 under 16's sailing course
DESCRIPTION:Either a 5-day course or two 2-day courses – either Stage 1 + Stage 2 or Stage 3 + Stage 4 (See https://www.btac-services.co.uk/rya-syllabus/ for more details)
URL:https://www.btac-services.co.uk/event/h6-under-16s-sailing-course-2/
LOCATION:Barton Turf Adventure Centre\, Staithe Road\, Barton Turf\, NORWICH\, NR12 8AZ\, United Kingdom
CATEGORIES:Sailing course
ORGANIZER;CN="Barton%20Turf%20Adventure%20Centre":MAILTO:bookings@btac-services.co.uk
END:VEVENT
BEGIN:VEVENT
DTSTART;TZID=Europe/London:20200824T093000
DTEND;TZID=Europe/London:20200828T093000
DTSTAMP:20260422T221228
CREATED:20191009T115641Z
LAST-MODIFIED:20191203T140052Z
UID:848-1598261400-1598607000@www.btac-services.co.uk
SUMMARY:H7 under 16's sailing course
DESCRIPTION:Either a 5-day course or two 2-day courses – either Stage 1 + Stage 2 or Stage 3 + Stage 4 (See https://www.btac-services.co.uk/rya-syllabus/ for more details)
URL:https://www.btac-services.co.uk/event/h7-under-16s-sailing-course-2/
LOCATION:Barton Turf Adventure Centre\, Staithe Road\, Barton Turf\, NORWICH\, NR12 8AZ\, United Kingdom
CATEGORIES:Sailing course
ORGANIZER;CN="Barton%20Turf%20Adventure%20Centre":MAILTO:bookings@btac-services.co.uk
END:VEVENT
BEGIN:VEVENT
DTSTART;VALUE=DATE:20200829
DTEND;VALUE=DATE:20200901
DTSTAMP:20260422T221228
CREATED:20191009T115641Z
LAST-MODIFIED:20191203T140153Z
UID:849-1598659200-1598918399@www.btac-services.co.uk
SUMMARY:Barton Regatta (no courses)
DESCRIPTION:
URL:https://www.btac-services.co.uk/event/barton-regatta-no-courses/
LOCATION:NORWICH
END:VEVENT
BEGIN:VEVENT
DTSTART;TZID=Europe/London:20200901T080000
DTEND;TZID=Europe/London:20200904T170000
DTSTAMP:20260422T221228
CREATED:20191203T140422Z
LAST-MODIFIED:20191203T152109Z
UID:867-1598947200-1599238800@www.btac-services.co.uk
SUMMARY:H8 Under 16s sailing course
DESCRIPTION:Either a 4-day course or two 2-day courses – either Stage 1 + Stage 2 or Stage 3 + Stage 4 (See https://www.btac-services.co.uk/rya-syllabus/ for more details)
URL:https://www.btac-services.co.uk/event/h8-under-16s-sailing-course/
LOCATION:Barton Turf Adventure Centre\, Staithe Road\, Barton Turf\, NORWICH\, NR12 8AZ\, United Kingdom
CATEGORIES:Sailing course
ORGANIZER;CN="Barton%20Turf%20Adventure%20Centre":MAILTO:bookings@btac-services.co.uk
END:VEVENT
END:VCALENDAR