BEGIN:VCALENDAR
VERSION:2.0
PRODID:-//Barton Turf Adventure Centre - ECPv5.3.1.1//NONSGML v1.0//EN
CALSCALE:GREGORIAN
METHOD:PUBLISH
X-WR-CALNAME:Barton Turf Adventure Centre
X-ORIGINAL-URL:https://www.btac-services.co.uk
X-WR-CALDESC:Events for Barton Turf Adventure Centre
BEGIN:VTIMEZONE
TZID:Europe/London
BEGIN:DAYLIGHT
TZOFFSETFROM:+0000
TZOFFSETTO:+0100
TZNAME:BST
DTSTART:20220327T010000
END:DAYLIGHT
BEGIN:STANDARD
TZOFFSETFROM:+0100
TZOFFSETTO:+0000
TZNAME:GMT
DTSTART:20221030T010000
END:STANDARD
END:VTIMEZONE
BEGIN:VEVENT
DTSTART;VALUE=DATE:20220409
DTEND;VALUE=DATE:20220411
DTSTAMP:20260424T001740
CREATED:20220308T142047Z
LAST-MODIFIED:20220308T142047Z
UID:1095-1649462400-1649635199@www.btac-services.co.uk
SUMMARY:A1 - Adult level 1 sailing course
DESCRIPTION:non residential \n2 day beginners sailing course
URL:https://www.btac-services.co.uk/event/a1-adult-level-1-sailing-course/
LOCATION:Barton Turf Adventure Centre\, Staithe Road\, Barton Turf\, NORWICH\, NR12 8AZ\, United Kingdom
ORGANIZER;CN="Barton%20Turf%20Adventure%20Centre":MAILTO:bookings@btac-services.co.uk
END:VEVENT
BEGIN:VEVENT
DTSTART;TZID=Europe/London:20220414T090000
DTEND;TZID=Europe/London:20220414T170000
DTSTAMP:20260424T001740
CREATED:20220308T133610Z
LAST-MODIFIED:20220308T133610Z
UID:1079-1649926800-1649955600@www.btac-services.co.uk
SUMMARY:RYA First Aid
DESCRIPTION:Booking required – limited numbers
URL:https://www.btac-services.co.uk/event/rya-first-aid/
LOCATION:Barton Turf Adventure Centre\, Staithe Road\, Barton Turf\, NORWICH\, NR12 8AZ\, United Kingdom
ORGANIZER;CN="Barton%20Turf%20Adventure%20Centre":MAILTO:bookings@btac-services.co.uk
END:VEVENT
END:VCALENDAR