BEGIN:VCALENDAR
VERSION:2.0
PRODID:-//Barton Turf Adventure Centre - ECPv5.3.1.1//NONSGML v1.0//EN
CALSCALE:GREGORIAN
METHOD:PUBLISH
X-WR-CALNAME:Barton Turf Adventure Centre
X-ORIGINAL-URL:https://www.btac-services.co.uk
X-WR-CALDESC:Events for Barton Turf Adventure Centre
BEGIN:VTIMEZONE
TZID:Europe/London
BEGIN:DAYLIGHT
TZOFFSETFROM:+0000
TZOFFSETTO:+0100
TZNAME:BST
DTSTART:20220327T010000
END:DAYLIGHT
BEGIN:STANDARD
TZOFFSETFROM:+0100
TZOFFSETTO:+0000
TZNAME:GMT
DTSTART:20221030T010000
END:STANDARD
END:VTIMEZONE
BEGIN:VEVENT
DTSTART;TZID=Europe/London:20221014T090000
DTEND;TZID=Europe/London:20221017T170000
DTSTAMP:20260419T210804
CREATED:20220817T162350Z
LAST-MODIFIED:20220817T164426Z
UID:1170-1665738000-1666026000@www.btac-services.co.uk
SUMMARY:Friends of BTAC Volunteers weekend
DESCRIPTION:Friends of Barton Turf Adventure Centre volunteers working weekend \nBTAC site and fen is a relatively small area but it does not diminish its importance as a protected habitat or valuable education resource.  Unfortunately there are just as many jobs here for the small team as there are on a larger site. \nVolunteers can get involved with read cutting\, marsh management\, boardwalk renewal\, site\, path and building maintenance or scrub bashing depending upon the weather and team leaders available. \nWe hope our volunteers benefit by working together\, sharing practical conservation skill and techniques and having the opportunity to  enhance their knowledge of flora and fauna including birds\, butterflies\, dragonflies and plants.  We hope they feel appreciated\, knowing they are supporting an education centre and SSSI. \nOn this weekend we provide meals from Friday lunch to Monday lunch for all volunteers that have booked in advance.  Accommodation is also available in our static tents for those coming out of area. \nEveryone is welcome; to book attendance for any/all days\, meals and/or accommodation please email Di on bookings@btac-services.co.uk. \n  \n 
URL:https://www.btac-services.co.uk/event/friends-of-btac-volunteers-weekend/
LOCATION:NORWICH
END:VEVENT
END:VCALENDAR